BEGIN:VCALENDAR
VERSION:2.0
PRODID:-//Tukios.com/
BEGIN:VEVENT
UID:fc64ccf0-8914-40be-b387-2c6df22c7ec9@www.watsonsfuneralhome.com
DTSTAMP:20260421T011602Z
DTSTART:20260502T133000Z
DTEND:20260502T153000Z
SUMMARY:Funeral Service
DESCRIPTION:
URL:https://www.watsonsfuneralhome.com/obituaries/terri-burrell
LOCATION:Watson's Funeral Home 10913 Superior Ave  Cleveland OH 44106
GEO:41.5225229;-81.6102346
END:VEVENT
END:VCALENDAR