BEGIN:VCALENDAR
VERSION:2.0
PRODID:-//Tukios.com/
BEGIN:VEVENT
UID:eae48919-4af5-4f86-b59b-6bfa08cb1a92@www.watsonsfuneralhome.com
DTSTAMP:20260421T012507Z
DTSTART:20260501T130000Z
DTEND:20260501T210000Z
SUMMARY:Public Viewing
DESCRIPTION:
URL:https://www.watsonsfuneralhome.com/obituaries/terri-burrell
LOCATION:Watson's Funeral Home 10913 Superior Ave  Cleveland OH 44106
GEO:41.5225229;-81.6102346
END:VEVENT
END:VCALENDAR