BEGIN:VCALENDAR
VERSION:2.0
PRODID:-//Tukios.com/
BEGIN:VEVENT
UID:50f6d51c-18d8-4c99-a456-1c2098902aac@www.watsonsfuneralhome.com
DTSTAMP:20260424T012221Z
DTSTART:20260501T210000Z
DTEND:20260501T230000Z
SUMMARY:Family Visitation
DESCRIPTION:
URL:https://www.watsonsfuneralhome.com/obituaries/lasandra-sanders
LOCATION:Watson's Funeral Home 10913 Superior Ave  Cleveland OH 44106
GEO:41.5225229;-81.6102346
END:VEVENT
END:VCALENDAR