BEGIN:VCALENDAR
VERSION:2.0
PRODID:-//Tukios.com/
BEGIN:VEVENT
UID:2990de21-e50d-4072-af5a-281febe8c045@www.watsonsfuneralhome.com
DTSTAMP:20260424T012128Z
DTSTART:20260502T140000Z
DTEND:20260502T160000Z
SUMMARY:Funeral Service
DESCRIPTION:
URL:https://www.watsonsfuneralhome.com/obituaries/lasandra-sanders
LOCATION:East Mt. Zion Baptist Church 9990 Euclid Ave  Cleveland OH 44106
GEO:41.5030821;-81.6186456
END:VEVENT
END:VCALENDAR