BEGIN:VCALENDAR
VERSION:2.0
PRODID:-//Tukios.com/
BEGIN:VEVENT
UID:bacbb643-e9b4-4cb7-aac6-caac80f4f8d9@www.watsonsfuneralhome.com
DTSTAMP:20260424T011918Z
DTSTART:20260502T160000Z
DTEND:20260502T161500Z
SUMMARY:Interment
DESCRIPTION:
URL:https://www.watsonsfuneralhome.com/obituaries/lasandra-sanders
LOCATION:Lake View Cemetery 12316 Euclid Avenue  Cleveland OH 44106
GEO:41.5136436;-81.5946557
END:VEVENT
END:VCALENDAR