BEGIN:VCALENDAR
VERSION:2.0
PRODID:-//Tukios.com/
BEGIN:VEVENT
UID:ad254dc8-9032-4b11-93fa-fee2ef084f41@www.watsonsfuneralhome.com
DTSTAMP:20260422T230318Z
DTSTART:20260530T170000Z
DTEND:20260530T193000Z
SUMMARY:Memorial Service
DESCRIPTION:
URL:https://www.watsonsfuneralhome.com/obituaries/barbara-ashby
LOCATION:Watson's Funeral Home 10913 Superior Ave  Cleveland OH 44106
GEO:41.5225229;-81.6102346
END:VEVENT
END:VCALENDAR